BEGIN:VCALENDAR
VERSION:2.0
PRODID:-//AudioTheme 1.6.3
BEGIN:VEVENT
UID:http://ana.anglarilldisseny.com/?post_type=audiotheme_gig&#038;p=331
URL:https://anaarnaz.com/shows/gig-recording-of-the-cd-la-voz-del-olvido/
DTSTART;VALUE=DATE:20110509
SUMMARY:Recording of the CD La voz del olvido
DESCRIPTION:Recording of the CD La voz del olvido\, for the label Aparte.
LOCATION:French
END:VEVENT
END:VCALENDAR