BEGIN:VCALENDAR
VERSION:2.0
PRODID:-//AudioTheme 1.6.3
BEGIN:VEVENT
UID:http://ana.anglarilldisseny.com/?post_type=audiotheme_gig&#038;p=321
URL:https://anaarnaz.com/shows/gig-early-music-festival-musicas-de-la-itinerancia/
DTSTART;TZID=GMT:20110916T000000
SUMMARY:Early Music Festival Músicas de la itinerancia
DESCRIPTION:Concert with Vox Suavis\, with the program Locus Amoenus at the Early Music Festival Musicas de la itinerancia.
LOCATION:Northampton (MA - USA)
END:VEVENT
END:VCALENDAR