BEGIN:VCALENDAR
VERSION:2.0
PRODID:-//AudioTheme 1.6.3
BEGIN:VEVENT
UID:http://anaarnaz.com/?post_type=audiotheme_gig&#038;p=1884
URL:https://anaarnaz.com/shows/gig-1884/
DTSTART;TZID=GMT:20190127T000000
SUMMARY:Cantaderas' concert with the program "As Festas do Anno".
DESCRIPTION:Cantaderas' concert at the Festival "La folle journée en Region de Nantes" with the program "As Festas do Anno". 
LOCATION:Fontevraud (Nantes\, France)
END:VEVENT
END:VCALENDAR