BEGIN:VCALENDAR
VERSION:2.0
PRODID:-//AudioTheme 1.6.3
BEGIN:VEVENT
UID:http://anaarnaz.com/?post_type=audiotheme_gig&#038;p=2287
URL:https://anaarnaz.com/shows/courses-at-the-escuela-de-musica-medieval-y-de-tradicion-oral/
DTSTART;TZID=GMT:20200321T000000
SUMMARY:Workshop "The traditional music repertoire in Extremadura. Songbooks and recordings from the first half of the XX century."
DESCRIPTION:Two days workshop for singers of all levels  at the Escuela de Música Medieval y de Tradición Oral de Madrid. CANCEL.
LOCATION:Fundación Giner\, Madrid
END:VEVENT
END:VCALENDAR