BEGIN:VCALENDAR
VERSION:2.0
PRODID:-//AudioTheme 1.6.3
BEGIN:VEVENT
UID:http://anaarnaz.com/?post_type=audiotheme_gig&#038;p=1389
URL:https://anaarnaz.com/shows/cantaderas-pfarrkirche/
DTSTART;TZID=GMT:20170903T000000
SUMMARY:Cantaderas sings at the Pfarrkirche in Witterswil
DESCRIPTION:Cantaderas presents their program Devota Fecunditas at the Pfarrkirche St. Katharina in Witterswil
LOCATION:Witterswil\, Switzerland
END:VEVENT
END:VCALENDAR