BEGIN:VCALENDAR
VERSION:2.0
PRODID:-//AudioTheme 1.6.3
BEGIN:VEVENT
UID:http://anaarnaz.com/?post_type=audiotheme_gig&#038;p=1894
URL:https://anaarnaz.com/shows/benefit-concert-for-the-frauen-oase-project-in-basel/
DTSTART;TZID=GMT:20190517T000000
SUMMARY:Benefit concert for the Frauen Oase Project in Basel. 19,30h in der Matthäus Kirche (Basel)
DESCRIPTION:Benefit concert for the Frauen Oase Project in Basel. Students from the Musikschule der Schola Cantorum Basiliensis\, Musol and Stimmen 4057. 
LOCATION:Matteus Kirche (Basel)
END:VEVENT
END:VCALENDAR