BEGIN:VCALENDAR
VERSION:2.0
PRODID:-//AudioTheme 1.6.3
BEGIN:VEVENT
UID:https://anaarnaz.com/?post_type=audiotheme_gig&#038;p=6671
URL:https://anaarnaz.com/shows/artist-in-residence-with-the-ensemble-evoca-by-the-university-complutense-from-madrid/
DTSTART;TZID=GMT:20230118T000000
SUMMARY:Artist in Residence with the ensemble EVOCA, by the University Complutense from Madrid
DESCRIPTION:Artistic residence with the ensemble EVOCA supported by the Complutense University from Madrid from the 18th\, 19th to the 29th of January. 
END:VEVENT
END:VCALENDAR