BEGIN:VCALENDAR
VERSION:2.0
PRODID:-//AudioTheme 1.6.3
BEGIN:VEVENT
UID:https://anaarnaz.com/?post_type=audiotheme_gig&#038;p=9198
URL:https://anaarnaz.com/shows/2024-03-28/
DTSTART;VALUE=DATE:20240328
SUMMARY:Artist in Residence with the Ensemble Evoca. The interpretation of Old Hispanic chant.
DESCRIPTION:Artist in Residence with the Ensemble Evoca. The interpretation of Old Hispanic chant.
LOCATION:Tarrasa (Spain) La Seu d'Égara
END:VEVENT
END:VCALENDAR