BEGIN:VCALENDAR
VERSION:2.0
PRODID:-//AudioTheme 1.6.3
BEGIN:VEVENT
UID:http://anaarnaz.com/?post_type=audiotheme_gig&#038;p=3650
URL:https://anaarnaz.com/shows/2021-03-11/
DTSTART;VALUE=DATE:20210311
SUMMARY:Cantaderas CD Presentation: "As Festas do Anno" in Paris. POSPONED
DESCRIPTION:Cantaderas CD Presentation: "As Festas do Anno" in Paris.  More info coming soon. POSTPONED.
LOCATION:Paris
END:VEVENT
END:VCALENDAR