BEGIN:VCALENDAR
VERSION:2.0
PRODID:-//AudioTheme 1.6.3
BEGIN:VEVENT
UID:http://anaarnaz.com/?post_type=audiotheme_gig&#038;p=1531
URL:https://anaarnaz.com/shows/2018-09-23/
DTSTART;TZID=GMT:20180923T000000
SUMMARY:Concert with Cantaderas at the Festival Via Aeterna. With the program "As festas do anno"
DESCRIPTION:Concert with Cantaderas at the International Music Festival Via Aeterna. With the program "As festas do anno"
LOCATION:Mont Saint Michel (France)
END:VEVENT
END:VCALENDAR