BEGIN:VCALENDAR
VERSION:2.0
PRODID:-//AudioTheme 1.6.3
BEGIN:VEVENT
UID:http://anaarnaz.com/?post_type=audiotheme_gig&#038;p=1358
URL:https://anaarnaz.com/shows/2017-06-18-2/
DTSTART;TZID=GMT:20170617T000000
SUMMARY:Cantaderas performs Devota Fecunditas
DESCRIPTION:Concert for the Symposium "La mujer en el folklore"\, performing medieval and traditional repertoires.
LOCATION:Urueña\, Valladolid\, Spain
END:VEVENT
END:VCALENDAR