BEGIN:VCALENDAR
VERSION:2.0
PRODID:-//AudioTheme 1.6.3
BEGIN:VEVENT
UID:http://anaarnaz.com/?post_type=audiotheme_gig&#038;p=1355
URL:https://anaarnaz.com/shows/2017-06-17/
DTSTART;TZID=GMT:20170617T000000
SUMMARY:Symposium: "La mujer en el folklore". Fundación Joaquín Díaz. Urueña (Valladolid) España.
DESCRIPTION:Lecture on the women’s repertoire collected in the first song books from the northwestern Iberian peninsula. Cantaderas presents methods for their understanding and musical interpretation.
LOCATION:Urueña\, Valladolid\, Spain
END:VEVENT
END:VCALENDAR