BEGIN:VCALENDAR
VERSION:2.0
PRODID:-//AudioTheme 1.6.3
BEGIN:VEVENT
UID:http://anaarnaz.com/?post_type=audiotheme_gig&#038;p=1349
URL:https://anaarnaz.com/shows/2017-04-02/
DTSTART;TZID=GMT:20170402T000000
SUMMARY:Performance with ensemble Rorate Caeli for Sunday Service
DESCRIPTION:Sunday mass with Rorate Caeli at the Reformed Evangelical Church of Kleinhüningen
LOCATION:Basel\, Switzerland
END:VEVENT
END:VCALENDAR